BEGIN:VCALENDAR
VERSION:2.0
PRODID:-//Netzwerk Seilerei - ECPv6.15.20//NONSGML v1.0//EN
CALSCALE:GREGORIAN
METHOD:PUBLISH
X-WR-CALNAME:Netzwerk Seilerei
X-ORIGINAL-URL:https://netzwerk-seilerei.net
X-WR-CALDESC:Veranstaltungen für Netzwerk Seilerei
REFRESH-INTERVAL;VALUE=DURATION:PT1H
X-Robots-Tag:noindex
X-PUBLISHED-TTL:PT1H
BEGIN:VTIMEZONE
TZID:UTC
BEGIN:STANDARD
TZOFFSETFROM:+0000
TZOFFSETTO:+0000
TZNAME:UTC
DTSTART:20240101T000000
END:STANDARD
END:VTIMEZONE
BEGIN:VEVENT
DTSTART;TZID=UTC:20250315T150000
DTEND;TZID=UTC:20250315T180000
DTSTAMP:20260421T114605
CREATED:20250217T091156Z
LAST-MODIFIED:20250217T091156Z
UID:5157-1742050800-1742061600@netzwerk-seilerei.net
SUMMARY:workshop: interdisziplinäre tanzimprovisation
DESCRIPTION:Netzwerken in der Schönheit des Augenblicks \nIn diesem Workshop werden wir eine temporäre kreative Gruppe formen im Sinne der Idee der „sozialen Plastik“ des Künstlers Joseph Beuys. \nIch werde Euch Übungen aus Spiel und Tanz vorschlagen\, zu unserer gemeinsamen Freude und damit wir uns ein bisschen besser kennenlernen. \nIndem wir uns selbst und die anderen ernst nehmen -mit Humor und Liebe- beginnen wir dann mit einem feinen Prozess des „Netzwerkens“. \nIn Offenheit und Sensibilität erlauben wir uns\, freudvoll Sinn und Unsinn zu erleben. Jeder ist ein Künstler in der Schönheit des Augenblicks! …frei nach Beuys. \nWie viele von Euch wissen\, spielt in der „Interdisziplinären Improvisation“ die Musik eine Schlüsselrolle. In diesem Workshop kommt die Musik von innen\, von außen und ist auch von uns selbstgemacht. \nMein persönlicher Background ist die Tanz- und Bewegungstherapie\, die Pädagogik und Erfahrungen aus dem freien Körpertheater. Ich möchte dies vereinen zu einer Melange\, einer „Bricolage“ aus Kunst und Freude. \nBitte bringt ein Instrument oder Dinge mit\, die alle möglichen Sounds produzieren. Wenn du ein Melodieinstrument spielst\, dann bring dies bitte (auch) sehr gerne mit. \nDu solltest eine Decke dabei haben zum Sitzen oder Liegen. Es gibt aber auch Stühle in der Seilerei\, wem das lieber ist. \nIch freue mich auf eine bunte und diverse Gruppe mit Menschen jeden Alters\, Geschlechts und Einzigartigkeit. \nRicarda Löffler \n  \nZeit: Samstag\, 15.03.2025 \nOrt: Halle 1 (Parkettsaal) \nWorkshopsprache: deutsch \nBeitrag: 20€ (Ermäßigung möglich) \nAnmeldung bei: SusanneRentel@gmail.com
URL:https://netzwerk-seilerei.net/event/workshop-interdisziplinaere-tanzimprovisation-2/
CATEGORIES:movement
ATTACH;FMTTYPE=image/jpeg:https://netzwerk-seilerei.net/wp-content/uploads/2025/01/Flyer-Improvisationneubearb.1-scaled.jpg
END:VEVENT
END:VCALENDAR