BEGIN:VCALENDAR
VERSION:2.0
PRODID:-//Netzwerk Seilerei - ECPv6.15.20//NONSGML v1.0//EN
CALSCALE:GREGORIAN
METHOD:PUBLISH
X-WR-CALNAME:Netzwerk Seilerei
X-ORIGINAL-URL:https://netzwerk-seilerei.net
X-WR-CALDESC:Veranstaltungen für Netzwerk Seilerei
REFRESH-INTERVAL;VALUE=DURATION:PT1H
X-Robots-Tag:noindex
X-PUBLISHED-TTL:PT1H
BEGIN:VTIMEZONE
TZID:UTC
BEGIN:STANDARD
TZOFFSETFROM:+0000
TZOFFSETTO:+0000
TZNAME:UTC
DTSTART:20240101T000000
END:STANDARD
END:VTIMEZONE
BEGIN:VEVENT
DTSTART;TZID=UTC:20250404T193000
DTEND;TZID=UTC:20250404T220000
DTSTAMP:20260421T102337
CREATED:20250319T102455Z
LAST-MODIFIED:20250324T111704Z
UID:5363-1743795000-1743804000@netzwerk-seilerei.net
SUMMARY:WERKSCHAU: DIE AFFIRMATIVE Improtheater
DESCRIPTION:Zwei unserer liebsten Kurse präsentieren ihr Können auf unserer Werkbühne. In der ersten Hälfte feiern wir die Bühnenpremiere von Level 2. Das allererste Mal im Scheinwerferlicht! Unsere Kursabsolvent*innen haben gelernt\, blitzschnell in Situationen zu schlüpfen und eine Szene aus dem Nichts entstehen zu lassen. Mal schrill\, mal leise\, mal Königin\, mal Mafiaboss: Level 3 zaubert in der zweiten Hälfte Figuren zum Kaputtlachen auf die Bühne. \nKommt zahlreich\, bejubelt eure Liebsten\, trinkt ein kühles Bier dabei – dann könnt ihr später sagen: „Ich war dabei\, als alles anfing.“ \nIm Anschluss feiern wir unsere mutigen Schauspieler*innen an der Bar der Schauspielschule! \nHinweis Einlass: 19.00 Uhr \nShowbeginn: 19.30 Uhr \n\n\n\n\n  \nfoto: die affirmative
URL:https://netzwerk-seilerei.net/event/werkschau-die-affirmative-improtheater-2/
CATEGORIES:Theater & Performance
ATTACH;FMTTYPE=image/jpeg:https://netzwerk-seilerei.net/wp-content/uploads/2024/05/picture_me.jpg
END:VEVENT
END:VCALENDAR