BEGIN:VCALENDAR
VERSION:2.0
PRODID:-//Netzwerk Seilerei - ECPv6.15.20//NONSGML v1.0//EN
CALSCALE:GREGORIAN
METHOD:PUBLISH
X-WR-CALNAME:Netzwerk Seilerei
X-ORIGINAL-URL:https://netzwerk-seilerei.net
X-WR-CALDESC:Veranstaltungen für Netzwerk Seilerei
REFRESH-INTERVAL;VALUE=DURATION:PT1H
X-Robots-Tag:noindex
X-PUBLISHED-TTL:PT1H
BEGIN:VTIMEZONE
TZID:UTC
BEGIN:STANDARD
TZOFFSETFROM:+0000
TZOFFSETTO:+0000
TZNAME:UTC
DTSTART:20230101T000000
END:STANDARD
END:VTIMEZONE
BEGIN:VEVENT
DTSTART;TZID=UTC:20240615T100000
DTEND;TZID=UTC:20240615T180000
DTSTAMP:20260421T102538
CREATED:20240531T211526Z
LAST-MODIFIED:20240531T211527Z
UID:3946-1718445600-1718474400@netzwerk-seilerei.net
SUMMARY:Vinokilo Vintage Sale
DESCRIPTION:Timeslot Tickets Buchen
URL:https://netzwerk-seilerei.net/event/vinokilo-vintage-sale-2/
ATTACH;FMTTYPE=image/jpeg:https://netzwerk-seilerei.net/wp-content/uploads/2024/03/Frankfurt.jpg
END:VEVENT
END:VCALENDAR