BEGIN:VCALENDAR
VERSION:2.0
PRODID:-//Netzwerk Seilerei - ECPv6.15.20//NONSGML v1.0//EN
CALSCALE:GREGORIAN
METHOD:PUBLISH
X-WR-CALNAME:Netzwerk Seilerei
X-ORIGINAL-URL:https://netzwerk-seilerei.net
X-WR-CALDESC:Veranstaltungen für Netzwerk Seilerei
REFRESH-INTERVAL;VALUE=DURATION:PT1H
X-Robots-Tag:noindex
X-PUBLISHED-TTL:PT1H
BEGIN:VTIMEZONE
TZID:UTC
BEGIN:STANDARD
TZOFFSETFROM:+0000
TZOFFSETTO:+0000
TZNAME:UTC
DTSTART:20230101T000000
END:STANDARD
END:VTIMEZONE
BEGIN:VEVENT
DTSTART;TZID=UTC:20240427T150000
DTEND;TZID=UTC:20240427T180000
DTSTAMP:20260422T121211
CREATED:20240409T131846Z
LAST-MODIFIED:20240409T131846Z
UID:3704-1714230000-1714240800@netzwerk-seilerei.net
SUMMARY:Interdisziplinäre Improvisation - Social Presencing Theater
DESCRIPTION:Social Presencing Theater \nWir sind nicht allein. Jede unserer Handlungen hat einen Effekt auf das ganze System. Ökologisch\, ökonomisch und sozial. „Social Presencing Theater“ macht sichtbar\, welchen Effekt die Handlungen des Individuums auf das soziale Feld haben und umgekehrt. \nSocial Presencing Theater ist eine Verkörperungspraxis\, durch die wir in einen dichteren Kontakt mit uns selbst und anderen kommen und unsere Wahrnehmungen über uns selbst sowie das kollektive Feld vertiefen können. Es lädt uns dazu ein\, unsere natürliche Kreativität und unsere Fähigkeit\, die „Performance“ des Menschseins vollständig zu verkörpern\, zu nutzen. Im Workshop erproben wir als Tanzende\, Bewegende oder Musiker:innen\, praktisch\, wie wir aus der inneren Quelle der Stille neue und frische Impulse für uns und mit anderen erschließen\, um festgefahrene Strukturen und Gewohnheitsmuster zu überwinden und neue Felder zu öffnen. \nDie Methodik des Social Presencing Theater\, das sich in den letzten zwei Jahrzehnten aus dem Lebenswerk der Künstlerin\, Tänzerin und Meditationslehrerin Arawana Hayashi und ihrer Zusammenarbeit mit Otto Scharmer (Co-Founder das Presencing Instituts am MIT in Boston) entwickelt hat\, arbeitet mit dem tieferen Wissen\, das in unserer Fähigkeit verborgen liegt\, den Social Body\, mit all seinen versteckten Dynamiken und Strukturen\, blinden Flecken oder vergessene Ressourcen auf physischer Ebene erlebbar zu machen. (Rolf Birkholz) \nThema am 27.04.: „Social Presencing Theater“ mit Rolf Birkholz (Schauspieler)\n15.00 – 18.00 Uhr im Studio des Netzwerks Seilerei\, 1. Stock\nOffenbacher Landstr. 190\, 60599 Frankfurt\nMindestbeitrag: 10 € Spende für den Raum\nWeitere Infos und Anmeldung unter susanne.rentel@posteo.de oder rentelmoog@aol.com
URL:https://netzwerk-seilerei.net/event/interdisziplinaere-improvisation-social-presencing-theater-2/
CATEGORIES:Kurse / Workshop
ATTACH;FMTTYPE=image/jpeg:https://netzwerk-seilerei.net/wp-content/uploads/2024/03/Flyer-Improvisationneubearb.1-scaled.jpg
END:VEVENT
END:VCALENDAR