BEGIN:VCALENDAR
VERSION:2.0
PRODID:-//Netzwerk Seilerei - ECPv6.15.20//NONSGML v1.0//EN
CALSCALE:GREGORIAN
METHOD:PUBLISH
X-WR-CALNAME:Netzwerk Seilerei
X-ORIGINAL-URL:https://netzwerk-seilerei.net
X-WR-CALDESC:Veranstaltungen für Netzwerk Seilerei
REFRESH-INTERVAL;VALUE=DURATION:PT1H
X-Robots-Tag:noindex
X-PUBLISHED-TTL:PT1H
BEGIN:VTIMEZONE
TZID:UTC
BEGIN:STANDARD
TZOFFSETFROM:+0000
TZOFFSETTO:+0000
TZNAME:UTC
DTSTART:20240101T000000
END:STANDARD
END:VTIMEZONE
BEGIN:VEVENT
DTSTART;TZID=UTC:20250329T200000
DTEND;TZID=UTC:20250329T220000
DTSTAMP:20260421T103000
CREATED:20250306T103408Z
LAST-MODIFIED:20250310T092202Z
UID:5320-1743278400-1743285600@netzwerk-seilerei.net
SUMMARY:Indisches Konzert mit Hindol Deb & Shankh Lahiri + indisch-ayurvedisch-nepalesisches Essen
DESCRIPTION:Indische Klassische Musik mit Hindol Deb & Shankh Lahiri \nTaucht ein in die Welt der Ragas – meditativ\, expressiv und voller Energie. Ein einzigartiger Aspekt dieser Musik ist die Verwendung aller Frequenzen zwischen den Noten in einer Oktave in Form von Bends und Glides. Für die Zuhörer*innen wie auch für den Interpreten ist es ein Prozess der inneren Erforschung und der Suche nach einer Verbindung zu sich selbst. \nSitarist Hindol Deb und Shankh Lahiri an der Tabla erforschen die verborgenen Winkel des Geistes und nehmen den Zuhörer mit auf eine Reise der Selbsterforschung. \nEmpfohlene Spende €5-€25 \nBegleitend zum Konzert wird es vor Ort gemachtes indisch-ayurvedisch-nepalesisches Essen geben. \n \nFotocredits: \nTitelbild: Amogh Pant \nunteres Bild: Jens Hocher
URL:https://netzwerk-seilerei.net/event/indisches-konzert-mit-hindol-deb-shankh-lahiri-indisch-ayurvedisch-nepalesisches-essen/
LOCATION:Halle 1 Kulturbühne 2
CATEGORIES:Musik,Seilerei-Specials
ATTACH;FMTTYPE=image/jpeg:https://netzwerk-seilerei.net/wp-content/uploads/2025/03/Amogh-Pant.jpeg
END:VEVENT
END:VCALENDAR