BEGIN:VCALENDAR
VERSION:2.0
PRODID:-//Netzwerk Seilerei - ECPv6.15.20//NONSGML v1.0//EN
CALSCALE:GREGORIAN
METHOD:PUBLISH
X-WR-CALNAME:Netzwerk Seilerei
X-ORIGINAL-URL:https://netzwerk-seilerei.net
X-WR-CALDESC:Veranstaltungen für Netzwerk Seilerei
REFRESH-INTERVAL;VALUE=DURATION:PT1H
X-Robots-Tag:noindex
X-PUBLISHED-TTL:PT1H
BEGIN:VTIMEZONE
TZID:UTC
BEGIN:STANDARD
TZOFFSETFROM:+0000
TZOFFSETTO:+0000
TZNAME:UTC
DTSTART:20240101T000000
END:STANDARD
END:VTIMEZONE
BEGIN:VEVENT
DTSTART;TZID=UTC:20251021T180000
DTEND;TZID=UTC:20251021T220000
DTSTAMP:20260421T103540
CREATED:20250226T092052Z
LAST-MODIFIED:20250226T092052Z
UID:5275-1761069600-1761084000@netzwerk-seilerei.net
SUMMARY:ecstatic dance
DESCRIPTION:ecstatic cuties & netzwerk seilerei present: ecstatic dance \ndas warten hat ein ende.\ndie cuties kommen nach frankfurt!\nfreut euch auf elektrisierende ecstatic dances in halle 3!\neinen dienstag im monat von 18 – 22 Uhr (alle termine findet ihr weiter unten). \nlos geht’s am 🦄 25.02. 🦄 \nder fahrplan ist für alle abende in etwa gleich: \nankommen in der gruppe \naufwärmen mit körper und kontakt übungen \n1\,5–2 std. dj-set mit unterschiedlichen (elektronischen) genres \nabschlusskonzert \nam 25.02. leiten uns zuzu (juicy lab / ecstatic cuties) und sakuri (kabinett der kuriositäten / ecstatic cuties) mit wort und musik durch den abend. \nzuzu\nhttps://linktr.ee/zuzu.creatrix \nsakuri\nhttps://soundcloud.com/sakuri-dance/ecstatic-cuties-ecstatic-dance-japangarten-botanischer-garten-marburg-130924\nhttps://linktr.ee/sakuri.dance \njasmin gärtner wird uns auf dem flügel mit musik von chopin und eigenen improvisationen sanft landen lassen. \nwir haben folgende eintrittspreise für euch: normal: 20 € / supporter: 30 € / soli: 15 € (10x) \nes wird eine abendkasse geben\, sichert euch am besten aber schon im vorfeld\neure tickets über eine anmeldung: hello@ecstatic-cuties.de \nwer sind die ecstatic cuties?\n„Wir fördern queer-feministische und machtkritische Kunst und Kultur mit dem Ziel\, kulturelle und körperliche Muster zu hinterfragen und zu transformieren. Mit konsumfreien Tanz-\, Kunst- und Musikformaten\, Workshops zu Diversität und Nachhaltigkeit sowie spartenübergreifenden Veranstaltungen schaffen wir Räume für Begegnung\, Empowerment und gesellschaftlichen Wandel.“ \nhttps://www.instagram.com/ecstatic.cuties/ \ntermine 2025\n21.10.\, 25.11.\, 16.12. \nallerliebst\,\neure cuties <3 \n 
URL:https://netzwerk-seilerei.net/event/ecstatic-dance-9/
CATEGORIES:movement,Seilerei-Specials,Startseite
ATTACH;FMTTYPE=image/png:https://netzwerk-seilerei.net/wp-content/uploads/2025/02/poster.png
END:VEVENT
END:VCALENDAR