BEGIN:VCALENDAR
VERSION:2.0
PRODID:-//Netzwerk Seilerei - ECPv6.15.20//NONSGML v1.0//EN
CALSCALE:GREGORIAN
METHOD:PUBLISH
X-WR-CALNAME:Netzwerk Seilerei
X-ORIGINAL-URL:https://netzwerk-seilerei.net
X-WR-CALDESC:Veranstaltungen für Netzwerk Seilerei
REFRESH-INTERVAL;VALUE=DURATION:PT1H
X-Robots-Tag:noindex
X-PUBLISHED-TTL:PT1H
BEGIN:VTIMEZONE
TZID:UTC
BEGIN:STANDARD
TZOFFSETFROM:+0000
TZOFFSETTO:+0000
TZNAME:UTC
DTSTART:20230101T000000
END:STANDARD
END:VTIMEZONE
BEGIN:VEVENT
DTSTART;TZID=UTC:20241107T200000
DTEND;TZID=UTC:20241107T200000
DTSTAMP:20260421T130255
CREATED:20241007T074231Z
LAST-MODIFIED:20241028T134538Z
UID:4432-1731009600-1731009600@netzwerk-seilerei.net
SUMMARY:Cuba Vista Trio Tanzabend mit Kubanischer Livemusik
DESCRIPTION:Tanzabend mit Latin\, Bossa Nova\, Salsa | Cuba Vista nimmt Sie mit auf eine Reise durch die schönsten musikalischen Landschaften von Kuba & Brasilien. Schwungvoller cubanischer Son\, Salsa\, verführerischer Bolero und CHA CHA\, mitreißender brasilianischer Bossa Nova und temperamentvoller Samba\, lassen das Flair von Havannas „Social Clubs“ wieder aufleben. Hasta la Fiesta! \nLine up: Mireya Coba Cantero (leadvoc.\, smallperc.) aus Kuba\, Felipe Mandingo (perc.\, leadvoc.) aus Venezuela und Julian Montilla (git) aus Kolumbien. \nFür Kurzentschlossene: Tickets auch an der Abendkasse (wenn nicht ausverkauft). \n\nwww.cuba-vista-page.de \nTickets kaufen \nEine Veranstaltung von der Fabrik Frankfurt \nimage:  Ingo Mützel
URL:https://netzwerk-seilerei.net/event/cuba-vista-trio-tanzabend-mit-kubanischer-livemusik/
CATEGORIES:Musik
ATTACH;FMTTYPE=image/webp:https://netzwerk-seilerei.net/wp-content/uploads/2024/10/cuba.webp
END:VEVENT
END:VCALENDAR