BEGIN:VCALENDAR
VERSION:2.0
PRODID:-//Netzwerk Seilerei - ECPv6.15.20//NONSGML v1.0//EN
CALSCALE:GREGORIAN
METHOD:PUBLISH
X-WR-CALNAME:Netzwerk Seilerei
X-ORIGINAL-URL:https://netzwerk-seilerei.net
X-WR-CALDESC:Veranstaltungen für Netzwerk Seilerei
REFRESH-INTERVAL;VALUE=DURATION:PT1H
X-Robots-Tag:noindex
X-PUBLISHED-TTL:PT1H
BEGIN:VTIMEZONE
TZID:UTC
BEGIN:STANDARD
TZOFFSETFROM:+0000
TZOFFSETTO:+0000
TZNAME:UTC
DTSTART:20230101T000000
END:STANDARD
END:VTIMEZONE
BEGIN:VEVENT
DTSTART;TZID=UTC:20240706T150000
DTEND;TZID=UTC:20240706T173000
DTSTAMP:20260421T140349
CREATED:20240705T131027Z
LAST-MODIFIED:20240806T065112Z
UID:10007078-1720278000-1720287000@netzwerk-seilerei.net
SUMMARY:BAKING WORKSHOP mit roee sheffer
DESCRIPTION:Roee Sheffer ist professioneller Bäcker\, Gewinner des Preises der Dänischen Gastronomischen Akademie für Sauerteiggebäck und war u. a. Chefbäcker im Michelin-Restaurant Noma in Kopenhagen.\nBaker’s meditation method:\nYou cannot touch the same dough twice – like Heraclitus said about the river. We approach baking as an ever-changing situation and we are here to guide the different processes rather than to force our will on them.\nWe do that by practicing awareness as we bake.\nIt is important for me to get people to feel comfortable with themselves and with sourdough work.\nI started developing this tool-kit after a traumatic experience in the first bakery I worked in\, then after 10 years of practicing yoga\, meditation and bakery work I started to share this with my baker-teams. \n  \nlearn how to shape and bake danish pastry (sourdough\, vegan variation) \nlearn how to start\, maintain and use a home sourdough \nmake our own bread and bake it at home \nlearn product development \nlearn the basic baker’s meditation method \n  \nplease bring an apron\, a small airtight container for taking some sourdough home\, and another container \n  \nweitere infos und anmeldung via \nrssheffer@gmail.com \noder pn an \ninstagram.com/bakers_meditation/ \n  \nteilnahmegebühr: eine person 40\,- € \nbezahlung erfolgt vor ort. \nnur barzahlung möglich. \n 
URL:https://netzwerk-seilerei.net/event/baking-workshop-mit-roee-sheffer-5/2024-07-06/
CATEGORIES:Kurse / Workshop,Startseite
ATTACH;FMTTYPE=image/jpeg:https://netzwerk-seilerei.net/wp-content/uploads/2024/04/424775376_17859554079099212_1758270450001839092_n.jpg
END:VEVENT
END:VCALENDAR